BEGIN:VCALENDAR
VERSION:2.0
PRODID:-//Black Education Strategy Roundtable - ECPv6.15.20//NONSGML v1.0//EN
CALSCALE:GREGORIAN
METHOD:PUBLISH
X-WR-CALNAME:Black Education Strategy Roundtable
X-ORIGINAL-URL:https://besrwa.org
X-WR-CALDESC:Events for Black Education Strategy Roundtable
REFRESH-INTERVAL;VALUE=DURATION:PT1H
X-Robots-Tag:noindex
X-PUBLISHED-TTL:PT1H
BEGIN:VTIMEZONE
TZID:America/Vancouver
BEGIN:DAYLIGHT
TZOFFSETFROM:-0800
TZOFFSETTO:-0700
TZNAME:PDT
DTSTART:20250309T100000
END:DAYLIGHT
BEGIN:STANDARD
TZOFFSETFROM:-0700
TZOFFSETTO:-0800
TZNAME:PST
DTSTART:20251102T090000
END:STANDARD
BEGIN:DAYLIGHT
TZOFFSETFROM:-0800
TZOFFSETTO:-0700
TZNAME:PDT
DTSTART:20260308T100000
END:DAYLIGHT
BEGIN:STANDARD
TZOFFSETFROM:-0700
TZOFFSETTO:-0800
TZNAME:PST
DTSTART:20261101T090000
END:STANDARD
BEGIN:DAYLIGHT
TZOFFSETFROM:-0800
TZOFFSETTO:-0700
TZNAME:PDT
DTSTART:20270314T100000
END:DAYLIGHT
BEGIN:STANDARD
TZOFFSETFROM:-0700
TZOFFSETTO:-0800
TZNAME:PST
DTSTART:20271107T090000
END:STANDARD
END:VTIMEZONE
BEGIN:VEVENT
DTSTART;TZID=America/Vancouver:20260919T100000
DTEND;TZID=America/Vancouver:20260919T120000
DTSTAMP:20260423T085859
CREATED:20251125T035934Z
LAST-MODIFIED:20251125T084204Z
UID:49879-1789812000-1789819200@besrwa.org
SUMMARY:Quarterly Round Table
DESCRIPTION:Quarterly Roundtable: Back‑to‑School Agenda & Interim Advocacy (Hybrid): \nAs public schools and colleges settle into the year\, this convening aims to turn community power input into fall action. We use this time to the help shape draft bill ideas and budget requests and prepare for the Legislature’s late‑fall committee/assembly days (customarily held in November/December and announced annually)\, keeping our work and programs grounded in student experiences in the classroom\, on campuses\, and in their communities. \nDate: Saturday\, September 19\, 2026 \nTime: (10:00 a.m.–12:00 p.m. PT)\nFormat: Hybrid (in‑person + Zoom)\nIn-Person Location: To Be Determined
URL:https://besrwa.org/event/quarterly-round-table-2/
CATEGORIES:Meetings
ATTACH;FMTTYPE=image/jpeg:https://besrwa.org/wp-content/uploads/2025/09/3ladiesbesr.jpg
ORGANIZER;CN="Admin":MAILTO:Info@besrwa.org
END:VEVENT
END:VCALENDAR